BEGIN:VCALENDAR
VERSION:2.0
CALSCALE:GREGORIAN
PRODID:-//MyApp//Calendar 1.0//EN
BEGIN:VEVENT
METHOD:PUBLISH
UID:32245@regionalniportaly.cz
DTSTAMP:20260425T154524Z
DTSTART;VALUE=DATE:20230527
DTEND;VALUE=DATE:20230528
SUMMARY:F.T.PRIM - výroční koncert 35 let
DESCRIPTION:Ahoj kamarádi\,srdečně Vás zveme na jedinečný koncert u příležitosti 35. výročí kapely\, ke kterému jsme si pozvali nám velmi blízké hosty\, kteří určitě udělají radost i Vám. Koncert se koná 27. 5. 2023 od 17 hodin v&nbsp\;rekreačním středisku Šárka u Heroltic a zahrají skupiny Přístav a Bezruký Frantík Quartet\, svými úsměvnými básničkami Vás jistě rozesměje &nbsp\;Laďa &nbsp\;Hošek.Dostanete se k&nbsp\;nám autem nebo pěšmo z&nbsp\;Heroltic&nbsp\;či po turistické značce\, vedoucí krásným údolím řeky Svratky\, z&nbsp\;Veverské &nbsp\;Bítýšky nebo z&nbsp\;Tišnova. Pro zabavení Vašich dětí je k dispozici dětské hřiště nebo možnost koupání v&nbsp\;řece…Po koncertě se bude pokračovat v&nbsp\;místním proslulém Saloonu Šárka\, který zajistí hojnost pití a dobrot z&nbsp\;grilu\, popřípadě udírny. &nbsp\;Protože se zábava jistě protáhne a Vám se nebude chtít jet domů\, máte možnost si pronajmout chatku přímo v&nbsp\;areálu. (doporučujeme včas rezervovat).Akce se koná za každého počasí. &nbsp\;Přijeďte si s&nbsp\;námi zahrát\, zazpívat\, popít\, poklábosit\, prostě dobře se pobavit.Těšíme se na Vás.&nbsp\;F.T.Prim a pořadatelé z Šárky&nbsp\;Cena vstupenky na místě v den konání akce - 350 Kč.
LOCATION:Heroltice
END:VEVENT
END:VCALENDAR