BEGIN:VCALENDAR
VERSION:2.0
CALSCALE:GREGORIAN
PRODID:-//MyApp//Calendar 1.0//EN
BEGIN:VEVENT
METHOD:PUBLISH
UID:32639@regionalniportaly.cz
DTSTAMP:20260425T172739Z
DTSTART;VALUE=DATE:20230513
DTEND;VALUE=DATE:20230514
SUMMARY:Křižínkov běží! Poběž s ním...
DESCRIPTION:Křižínkov běží 2023 se blíží! Na 13. května si nic neplánuj! Vem své botky\, děti\, manželku\, partnerku\, babičku\, dědečka\, přátelé\, dobrou náladu a zavítej k Vodníkovi do Křižínkova. Nebudou chybět tradiční dětské závody\, nově dvojka (2\,5 km) pro každého\, samozřejmě hlavní závod v krásné přírodě Deblínského lesa\, skákací hrad. Pro velký úspěch k nám opět zavítá divadlo pro děti (i dospělé)\, tentokrát Divadlo Jójo. K tomu krásné posezení u rybníka s výborným občerstvením. Komu to nebude stačit\, může si po vyhlašování hlavního závodu a tombole střihnout pivní štafetu\, nebo jen posedět a zafandit. Aktuální informace na facebook.com/krizinkovbezi.Registrace na všechny závody pouze ONLINE do 12.05.2023!Můžete se již teď registrovat na běžecké závody dětí a dospělých zde: https://my.raceresult.com/231687/registrationNa týmovou pivní štafetu zde: https://my.raceresult.com/238372/registrationTěší se na Vás celý organizační tým a obec Křižínkov!
LOCATION:Křižínkov
END:VEVENT
END:VCALENDAR