BEGIN:VCALENDAR
VERSION:2.0
CALSCALE:GREGORIAN
PRODID:-//MyApp//Calendar 1.0//EN
BEGIN:VEVENT
METHOD:PUBLISH
UID:33964@regionalniportaly.cz
DTSTAMP:20260425T154514Z
DTSTART;VALUE=DATE:20230728
DTEND;VALUE=DATE:20230729
SUMMARY:Koncert I ZRNÍ
DESCRIPTION:Pá 28.07.202319:30 - 21:00koncertCafé U Palce380 Kč/předprodej\, 430 Kč/na místěv předprodeji / na místěKapela pohybují se v meziprostoru alternativy a popkultury. Jejich hudba je něco mezi rychlým městem a mlžným lesem – osobitá\, vynalézavá\, hravá\, dynamická\, barevná a plná emocí.Nezaměnitelná je poetika v jejich textech\, práce s elektronikou i skladatelsko-producentský přístup\, v němž fúzují žánry a panuje absolutní volnost.Intimitu z desek dokáží na koncertech přetavit v obrovskou energii. Umí být divocí i jemní\, zasnění i přímočaří. To vše dělá ze Zrní jednu z nejzajímavějších a nejvyzrálejších kapel české hudební scény.Vstupné osvobozeno od daně dle § 61 zák. o DPH 235/204 Sb.\nVstupné: předprodej 380 Kč\, na místě 430 Kč
LOCATION:Tišnov
END:VEVENT
END:VCALENDAR