BEGIN:VCALENDAR
VERSION:2.0
CALSCALE:GREGORIAN
PRODID:-//MyApp//Calendar 1.0//EN
BEGIN:VEVENT
METHOD:PUBLISH
UID:37350@regionalniportaly.cz
DTSTAMP:20260425T172646Z
DTSTART;VALUE=DATE:20240224
DTEND;VALUE=DATE:20240225
SUMMARY:10. Slavnosti moravského uzeného a vína
DESCRIPTION:POZOR! Z důvodu možných přívalových pátečních dešťů bude horní parkoviště na louce u hradu do odvolání uzavřené!&nbsp\; Více info zde&nbsp\;NEJVĚTŠÍ UZENÁŘSKO-VINAŘSKÁ AKCE (MOŽNÁ) NA SVĚTĚ\, V ČESKU&nbsp\; URČITĚV únoru na hradě Veveří v Brně opět zavoní moravské uzené a vinaři otevřou své nejlepší lahve na 10. Slavnostech moravského uzeného a vína 2024.&nbsp\;Návštěvníci zvolí Krále uzenářů roku 2024 a nejlepší domácí uzené\, vytápěný vinařský stan bude hostit na 15 rodinných vinařství. Nebude chybět DIY koutek\, zabíjačkové speciality i trendy fastfood\, program pro děti ani&nbsp\;speciální výzdoba a program k 10. výročí akce. Čerstvé novinky na fejsu&nbsp\;a instáči.&nbsp\;&nbsp\;Otevření brány v 9:30 hNeznáme lepší symfonii než moravské uzené a víno. Těšíme se na Vás na hradě Veveří od 24. do 25.2. 2024.&nbsp\;
LOCATION:Veverská Bítýška
END:VEVENT
END:VCALENDAR