BEGIN:VCALENDAR
VERSION:2.0
CALSCALE:GREGORIAN
PRODID:-//MyApp//Calendar 1.0//EN
BEGIN:VEVENT
METHOD:PUBLISH
UID:37382@regionalniportaly.cz
DTSTAMP:20260425T172522Z
DTSTART;VALUE=DATE:20231214
DTEND;VALUE=DATE:20231215
SUMMARY:Zbigniew Czendlik I Talkshow Postel hospoda kostel
DESCRIPTION:Čt 14.12.202317:00 - 18:30talkshowKino Svratka240 Kč /předprodej\, 290 Kč / na místěv předprodeji / na místěZnámý kněz zavítá do tišnovského kina. Za více než tři desetiletí působení si u nás získal přízeň věřících i široké veřejnosti. Kněz Zbigniew Czendlik hovoří bez zbytečného patosu a z pozice člověka\, který má rád obyčejný život se vším\, co přináší\, a má své nešvary jako my ostatní.Obsahem talk show je vyprávění příběhů z jeho života osobního i jiného…podané humorem jemu vlastním. V průběhu 90-ti minut se také dotýká problematiky současného světa a jejího aktuálního dění\, o čemž všem se rád s diváky otevřeně podělí.
LOCATION:Tišnov
END:VEVENT
END:VCALENDAR