BEGIN:VCALENDAR
VERSION:2.0
CALSCALE:GREGORIAN
PRODID:-//MyApp//Calendar 1.0//EN
BEGIN:VEVENT
METHOD:PUBLISH
UID:37383@regionalniportaly.cz
DTSTAMP:20260425T165621Z
DTSTART;VALUE=DATE:20231226
DTEND;VALUE=DATE:20231227
SUMMARY:Štěpánský koncert
DESCRIPTION:Út 26. 12. 202317:00 - 18:30koncertKostel sv. Václava190 Kč/předprodej\, 240 Kč/na místěŠtěpánský koncert je již tradičním a krásným zakončením hudební sezóny\, které současně podtrhuje vánoční atmosféru.Také letos uvede Tišnovský komorní orchestr pod vedením dirigenta Tomáše Křemena speciální program pro tento požehnaný čas.Se souborem vystoupí hobojista Moravské filharmonie Olomouc Radek Mattuš.\n \n 
LOCATION:Tišnov
END:VEVENT
END:VCALENDAR