BEGIN:VCALENDAR
VERSION:2.0
CALSCALE:GREGORIAN
PRODID:-//MyApp//Calendar 1.0//EN
BEGIN:VEVENT
METHOD:PUBLISH
UID:39117@regionalniportaly.cz
DTSTAMP:20260425T172358Z
DTSTART;VALUE=DATE:20240522
DTEND;VALUE=DATE:20240523
SUMMARY:Petr Švancara: JÁ SU JÁ
DESCRIPTION:🌟 SPECIÁLNÍ LIMITOVANÁ TOUR PETRA ŠVANCARY: "JÁ SU JÁ"&nbsp\;Připravte se na jedinečné setkání s legendou českého fotbalu\, charismatickým moderátorem a bavičem – Petrem Švancarou! Přichází k vám s jeho zbrusu novou show "JÁ SU JÁ" v rámci speciální limitované tour po České republice.🎤 Co vás čeká?📖 Historky z jeho života: Poslechněte si příběhy\, které ještě nikde nevyprávěl.❓ Otázky na tělo: Zeptejte se na cokoli\, co vás zajímá o jeho životě\, kariéře\, nebo třeba o zákulisí Survivoru.✍️ Autogramiáda: Získejte podpis na vašich oblíbených předmětech.📸 Focení: Nezapomeňte si vzít s sebou fotoaparát nebo mobil pro společné fotky.😂 Spousta zábavy a smíchu: Připravte se na večer plný legrace a nezapomenutelných zážitků.❓ Otázky\, které vás možná napadají:Jak dobře ho vlastně znáte?Co ještě nikdy neřekl o jeho zážitku v Survivoru?Jaké to bylo být profesionálním fotbalistou?🎉 Přijďte a zažijte neopakovatelný večer plný smíchu\, povídání a vzpomínek.&nbsp\;
LOCATION:Tišnov
END:VEVENT
END:VCALENDAR