BEGIN:VCALENDAR
VERSION:2.0
CALSCALE:GREGORIAN
PRODID:-//MyApp//Calendar 1.0//EN
BEGIN:VEVENT
METHOD:PUBLISH
UID:39170@regionalniportaly.cz
DTSTAMP:20260425T154409Z
DTSTART;VALUE=DATE:20240326
DTEND;VALUE=DATE:20240327
SUMMARY:MINIKURZ - nesmažené závitky NEM CUON
DESCRIPTION:Oblíbili jste si vietnamská jídla a rádi byste si je připravovali i doma? Máme pro vás další minikurz v naší "Prádelně" na Javůrku.Tentokrát se naučíte s Lenkou Vašíčkovou zamotat legendární nesmažené závitky NEM CUON a připravíte si k nim arašídový dip a zálivku NUOC CHAM. Závitky si naplníte dle své chuti a pak se do nich můžete s chutí hned pustit nebo si je nechat na doma.Dveře do kuchyně "Prádelny" otevíráme krátce před 17 hodinou v úterý 26.3.2024.\nTěšíme se na vás.
LOCATION:Javůrek
END:VEVENT
END:VCALENDAR