BEGIN:VCALENDAR
VERSION:2.0
CALSCALE:GREGORIAN
PRODID:-//MyApp//Calendar 1.0//EN
BEGIN:VEVENT
METHOD:PUBLISH
UID:39984@regionalniportaly.cz
DTSTAMP:20260425T153337Z
DTSTART;VALUE=DATE:20240228
DTEND;VALUE=DATE:20240229
SUMMARY:PaCoRa trio
DESCRIPTION:
LOCATION:Tišnov
END:VEVENT
END:VCALENDAR