BEGIN:VCALENDAR
VERSION:2.0
CALSCALE:GREGORIAN
PRODID:-//MyApp//Calendar 1.0//EN
BEGIN:VEVENT
METHOD:PUBLISH
UID:40207@regionalniportaly.cz
DTSTAMP:20260425T172440Z
DTSTART;VALUE=DATE:20240516
DTEND;VALUE=DATE:20240517
SUMMARY:Rapper - divadelní komedie
DESCRIPTION:
LOCATION:Tišnov
END:VEVENT
END:VCALENDAR