BEGIN:VCALENDAR
VERSION:2.0
CALSCALE:GREGORIAN
PRODID:-//MyApp//Calendar 1.0//EN
BEGIN:VEVENT
METHOD:PUBLISH
UID:40210@regionalniportaly.cz
DTSTAMP:20260425T154616Z
DTSTART;VALUE=DATE:20240403
DTEND;VALUE=DATE:20240404
SUMMARY:S úsměvy Donkichotů
DESCRIPTION:
LOCATION:Tišnov
END:VEVENT
END:VCALENDAR