BEGIN:VCALENDAR
VERSION:2.0
CALSCALE:GREGORIAN
PRODID:-//MyApp//Calendar 1.0//EN
BEGIN:VEVENT
METHOD:PUBLISH
UID:41701@regionalniportaly.cz
DTSTAMP:20260425T152411Z
DTSTART;VALUE=DATE:20240502
DTEND;VALUE=DATE:20240503
SUMMARY:Úsměvy Jaromíra Hanzlíka
DESCRIPTION:
LOCATION:Lysice
END:VEVENT
END:VCALENDAR