BEGIN:VCALENDAR
VERSION:2.0
CALSCALE:GREGORIAN
PRODID:-//MyApp//Calendar 1.0//EN
BEGIN:VEVENT
METHOD:PUBLISH
UID:41713@regionalniportaly.cz
DTSTAMP:20260425T165809Z
DTSTART;VALUE=DATE:20240415
DTEND;VALUE=DATE:20240416
SUMMARY:Bára Hrzánová\, Mário Bihári a Bachtale Apsa
DESCRIPTION:
LOCATION:Tišnov
END:VEVENT
END:VCALENDAR