BEGIN:VCALENDAR
VERSION:2.0
CALSCALE:GREGORIAN
PRODID:-//MyApp//Calendar 1.0//EN
BEGIN:VEVENT
METHOD:PUBLISH
UID:42944@regionalniportaly.cz
DTSTAMP:20260425T172415Z
DTSTART;VALUE=DATE:20240629
DTEND;VALUE=DATE:20240630
SUMMARY:Pouťová zábava v rytmu swingu
DESCRIPTION:POUŤOVÁ ZÁBAVA V RYTMU SWINGU!Po více jak šedesáti letech můžeme opět oslavit tradiční pouť v Jamném v zahradním posezení Hostinec U Vlachů!Hudbou se vrátíme do dob\, kdy byla pouť "pod ořechem" ve svém největším rozmachu! Hrát budou skvělí MELODY GENTLEMEN z Lednice\, kteří skvostně zahranými prvorepublikovými šlágry nenechají nikoho sedět na židlích!Jako speciální hosté se představí místní UM-CA-CA za mikrofonem s Janem Brdíčkem a kytaristy Víťou Šnévajsem a Jimem Macháčkem.Nenechte si ujít tento jedinečný zážitek a pojďte se vrátit do časů našich babiček a dědečků\, kdy elegance hrála prim a čas běžel tak nějak pomaleji :)Vstupenky v předprodeji na&nbsp\;tomto odkazu\, nebo osobně v otevírací době Hostince U Vlachů.
LOCATION:Tišnov
END:VEVENT
END:VCALENDAR