BEGIN:VCALENDAR
VERSION:2.0
CALSCALE:GREGORIAN
PRODID:-//MyApp//Calendar 1.0//EN
BEGIN:VEVENT
METHOD:PUBLISH
UID:44041@regionalniportaly.cz
DTSTAMP:20260425T154559Z
DTSTART;VALUE=DATE:20240907
DTEND;VALUE=DATE:20240908
SUMMARY:Alband: Blízko nás tour 2024
DESCRIPTION:
LOCATION:Tišnov
END:VEVENT
END:VCALENDAR