BEGIN:VCALENDAR
VERSION:2.0
CALSCALE:GREGORIAN
PRODID:-//MyApp//Calendar 1.0//EN
BEGIN:VEVENT
METHOD:PUBLISH
UID:44043@regionalniportaly.cz
DTSTAMP:20260425T191114Z
DTSTART;VALUE=DATE:20240914
DTEND;VALUE=DATE:20240915
SUMMARY:Tišnovské kozy 2024
DESCRIPTION:
LOCATION:Tišnov
END:VEVENT
END:VCALENDAR