BEGIN:VCALENDAR
VERSION:2.0
CALSCALE:GREGORIAN
PRODID:-//MyApp//Calendar 1.0//EN
BEGIN:VEVENT
METHOD:PUBLISH
UID:44044@regionalniportaly.cz
DTSTAMP:20260425T154549Z
DTSTART;VALUE=DATE:20240831
DTEND;VALUE=DATE:20240901
SUMMARY:Ahoj prázdniny! Dětské odpoledne
DESCRIPTION:
LOCATION:Tišnov
END:VEVENT
END:VCALENDAR