BEGIN:VCALENDAR
VERSION:2.0
CALSCALE:GREGORIAN
PRODID:-//MyApp//Calendar 1.0//EN
BEGIN:VEVENT
METHOD:PUBLISH
UID:45120@regionalniportaly.cz
DTSTAMP:20260425T154646Z
DTSTART;VALUE=DATE:20250628
DTEND;VALUE=DATE:20250629
SUMMARY:Březina SOBĚ - Ivan Mládek\, Mariachi Espuelas a další
DESCRIPTION:Dlaší ročník festivali v rámci programu Obce SOBĚ.Ivan Mládek a Banjo band\, Pedro Family&nbsp\;Band\, Mariachi Espuelas\, UmCaCa\, Lenka Konkolová\, program pro děti..&nbsp\;V prostorách krásného areálu u splavu řeky Svratky v Březině vás čeká nejen muzika\, zábava pro děti a krásná příroda\, ale také lokální gastro speciality.Letos poptvé stanové městečko = můžete se zdržet na večerní posezení u ohně a přespat ve vlastních stanech na přilehlé louce u řeky. Hudební nástroje vítány. :)&nbsp\;
LOCATION:Březina
END:VEVENT
END:VCALENDAR