BEGIN:VCALENDAR
VERSION:2.0
CALSCALE:GREGORIAN
PRODID:-//MyApp//Calendar 1.0//EN
BEGIN:VEVENT
METHOD:PUBLISH
UID:45468@regionalniportaly.cz
DTSTAMP:20260425T172617Z
DTSTART;VALUE=DATE:20240824
DTEND;VALUE=DATE:20240825
SUMMARY:Hradozámecká noc na Pernštejně
DESCRIPTION:
LOCATION:Nedvědice
END:VEVENT
END:VCALENDAR