BEGIN:VCALENDAR
VERSION:2.0
CALSCALE:GREGORIAN
PRODID:-//MyApp//Calendar 1.0//EN
BEGIN:VEVENT
METHOD:PUBLISH
UID:46302@regionalniportaly.cz
DTSTAMP:20260425T154436Z
DTSTART;VALUE=DATE:20241011
DTEND;VALUE=DATE:20241012
SUMMARY:Pro moderní Česko: diskuze plná nové energie
DESCRIPTION:Přijměte pozvání do Tišnova na diskuzi s ministrem životního prostředí PETREM HLADÍKEM (KDU-ČSL) o tom\, proč se jaro tváří jako léto a padá jeden teplotní rekord za druhým či jak se můžeme účinně bránit povodním a zda souvisí se změnou klimatu. Diskuze se také povede omožnostech řešení moderní energetiky pro domácnosti a obce\, které máme na dosah: rozumně zateplené domy\, zelená energie z vlastní fotovoltaiky nebo cesty bez kouře.\nV programu vystoupí také odborníci na efektivní zateplení domu\, elektromobilitu\, komunitní energetiku a změny trhu se zelenou energií. Přijďte se inspirovat. Budeme se na vás těšit v pátek 11. října od 15hod!Vstup je zdarma\, kapacita je omezena\, nezapomeňte se registrovat předem zde!\n 
LOCATION:Tišnov
END:VEVENT
END:VCALENDAR