BEGIN:VCALENDAR
VERSION:2.0
CALSCALE:GREGORIAN
PRODID:-//MyApp//Calendar 1.0//EN
BEGIN:VEVENT
METHOD:PUBLISH
UID:46367@regionalniportaly.cz
DTSTAMP:20260425T152421Z
DTSTART;VALUE=DATE:20250222
DTEND;VALUE=DATE:20250223
SUMMARY:Slavnosti moravského uzeného 2025
DESCRIPTION:Žádné stání ve frontě\, se vstupenkou z předprodeje rovnou za uzeným.Zakupte si vstupenku a využíjte ji v sobotu nebo v neděli.Největší uzenářsko-vinařská show&nbsp\;(možná) na světě\,&nbsp\;v Česku určitě.&nbsp\;&nbsp\;Zakoupením vstupenky souhlasíte s návštěvním řádem akce&nbsp\;Slavnosti moravského uzeného na hradě Veveří – 11. ročník!&nbsp\;Přijďte si užít jedinečný gurmánský zážitek s dlouholetou tradicí. V roce 2025 budeme&nbsp\;slavit&nbsp\;už 11. ročník této mimořádné akce\, která je jediná svého druhu v celé České republice\, možná dokonce na světě!&nbsp\;Na co se můžete těšit? Nejlepší uzenáři z celé Moravy vám představí své mistrovské uzené výrobky\, které budete moci ochutnat a zakoupit. K tomu se připojí vinařský stan s těmi nejlepšími víny z jižní Moravy\, která dokonale doplní chuť našich uzených specialit.&nbsp\;Nechybí ani řemeslný a food trh plný regionálních pochoutek\, a v naší food zóně se můžete těšit na vymazlená jídla z uzeného masa. Pivní nadšenci ocení ochutnávky od minipivovarů\, které přivezou to nejlepší z řemeslného piva.&nbsp\;Pro nejmenší je připraven dětský program\, takže si u nás užije celá rodina!&nbsp\;&nbsp\;soutěžní ochutnávka uzeného od předních moravských podniků - hlasování o Uzenářského krále rokurodinná vinařství nabízejí svá skvělá vínasoutěž neprofesionálů o nejlepší moravské uzenérozsáhlá nabídka klobás a dalších moravských uzenářských výrobkůneděle pro foodlovers\, kuchařská show s hvězdami gastronomického nebejak se co dělá? moravská zabíjačka\, workshopy s mistry řezníkypolévka zdarma pro každéhosoutěže a program pro děti
LOCATION:Veverská Bítýška
END:VEVENT
END:VCALENDAR