BEGIN:VCALENDAR
VERSION:2.0
CALSCALE:GREGORIAN
PRODID:-//MyApp//Calendar 1.0//EN
BEGIN:VEVENT
METHOD:PUBLISH
UID:46673@regionalniportaly.cz
DTSTAMP:20260425T172338Z
DTSTART;VALUE=DATE:20241010
DTEND;VALUE=DATE:20241011
SUMMARY:Jeskyně\, tajemství hory Květnice
DESCRIPTION:
LOCATION:Tišnov
END:VEVENT
END:VCALENDAR