BEGIN:VCALENDAR
VERSION:2.0
CALSCALE:GREGORIAN
PRODID:-//MyApp//Calendar 1.0//EN
BEGIN:VEVENT
METHOD:PUBLISH
UID:46676@regionalniportaly.cz
DTSTAMP:20260425T191345Z
DTSTART;VALUE=DATE:20241011
DTEND;VALUE=DATE:20241012
SUMMARY:Antti Tuoma: Než natáhnu brka
DESCRIPTION:V rámci festivalu Den s knihou uvedeme v Tišnově úspěšné představení z populárního cyklu scénických čtení LiStOVáNí.Účinkují Alan Novotný a Markéta Lánská.\nAby nedošlo k omylu\, tohle není brutální kriminálka\, ani kniha anekdot. Přesto vás čeká detektivní zápletka\, pár mrtvol\, konkurenční boj a plno úvah proč se všechno tak nějak semlelo. Jaakkovi je 37\, když mu lékař oznámí\, že nemá chřipku\, ale umírá na otravu – a nemá už moc času. Když se z ordinace vrátí domů\, přistihne svou ženu\, jak si užívá s mladým\, přitažlivým zaměstnancem jejich společné firmy. Firmy\, kterou začíná ohrožovat nebezpečná konkurence. Jaakko se rozhodne vypátrat toho\, kdo mu usiluje o život. Se smrtí za zády jde všechno rychleji a je potřeba užít si i využít každou minutu.Knihu Než natáhnu brka vydala v překladu Vladimíra Piskoře v roce 2018 Kniha Zlín ze skupiny Albatros Media.\nAntii Tuomainen je kritikou řazený k autorům noir detektivek. V současnosti je vedle vlastní tvorby činný také jako nezávislý redaktor. Největšího úspěchu se dočkal se svým třetím románem Léčitel (Parantaja) z roku 2010\, jejž zasadil do Helsinek blízké budoucnosti\, ochromených chaosem po prudké změně klimatu. V roce 2011 za něj Tuomainen obdržel prestižní cenu Vuodenjohtolanka udělovanou finským Klubem přátel detektivek. Jeho knihy vyšly ve více než dvaceti zemích včetně USA\, Velké Británie\, Francie\, Německa a Číny.\nCo je to LiStOVáNí?Cyklus scénických čtení aneb knížky na jevišti.Projekt LiStOVáNí představuje každý měsíc zajímavé a aktuální knihy. Vybraní autoři a jejich dílo či přímo specifická kniha jsou pak před diváky interpretováni v podobě scénického čtení. Jde vždy přibližně o hodinové divadelní vystoupení\, ve kterém je přenášen děj knihy\, jazyk autora a atmosféra dané literatury na obecenstvo\, které se v čele s mladou generací ve světě oproštěném od kultury a literatury vrací zpět k tomu\, co tu bylo první - knize. Nejde o nějaké fanzinové čtení oblíbených pasáží\, jde o dýchající představení s rekvizitami\, kostýmy\, hudbou\, začátkem a koncem. Za šíření čtení a čtenářství mělo ve svém čase LiStOVáNí záštitu Ministerstva školství.Za mimořádný přínos v oblasti propagace čtenářství získalo LiStOVáNí cenu Nadace Český literární fond.
LOCATION:Tišnov
END:VEVENT
END:VCALENDAR