BEGIN:VCALENDAR
VERSION:2.0
CALSCALE:GREGORIAN
PRODID:-//MyApp//Calendar 1.0//EN
BEGIN:VEVENT
METHOD:PUBLISH
UID:46678@regionalniportaly.cz
DTSTAMP:20260425T165858Z
DTSTART;VALUE=DATE:20241009
DTEND;VALUE=DATE:20241010
SUMMARY:Epoque Quartet
DESCRIPTION:Znáte je ze StarDance a přitom jsou vítanými hosty na pódiích prestižních festivalů klasické hudby (Pražské jaro\, Concentus Moraviae) i ve známých hudebních klubech jako je pražský Jazz Dock.Multižánrové smyčcové kvarteto Epoque quartet letos slaví 25 let na scéně a jeden z mnoha jejich koncertů si vychutnáme také v Tišnově.Přijměte pozvání na koncert\, který se uskuteční ve středu 9.října od19:30 ve velkém sále MěKS (vchod ul. Mlýnská). Délka 90 min s přestávkou.VSTUPENKY zakoupíte v kanceláři TIC Tišnov\, online nebo na místě před začátkem koncertu (pokud nebude vyprodáno v předprodeji).Vstupné činí v předprodeji 250\,- Kč a na místě 300\,- Kč. Pro seniory platí cena z předprodeje také na místě v den koncertu. Děti do 12 let mají vstup zdarma.\nKoncert EQ uvádíme jako součást cyklu Kruh přátel hudby\, v rámci kterého lze do konce roku navštívit také pěvecký recitál barytonisty Romana Hozy (6. 11.) a tradiční Štěpánský koncert v podání Tišnovského komorního orchestru (26. 12.).
LOCATION:Tišnov
END:VEVENT
END:VCALENDAR