BEGIN:VCALENDAR
VERSION:2.0
CALSCALE:GREGORIAN
PRODID:-//MyApp//Calendar 1.0//EN
BEGIN:VEVENT
METHOD:PUBLISH
UID:47115@regionalniportaly.cz
DTSTAMP:20260425T140909Z
DTSTART;VALUE=DATE:20241116
DTEND;VALUE=DATE:20241117
SUMMARY:Karel Gott revival Morava
DESCRIPTION:Projekt Karel Gott revival Morava\, který vznikl již před 18 lety spojením Josefa Boudy a Radka Vernera jako pocta mimořádné hudební osobnosti Karla Gotta\, je jeho nejlepším revivalem v České republice.Těšit se můžete na široký průřez repertoárem mnohonásobného Zlatého slavíka\, který bude opravdu k nerozeznání od originálu.Cena v předprodeji: 180 KčCena na místě: 250 KčDalší informace na www.krcekpub.cz a na sociálních sítích.
LOCATION:Tišnov
END:VEVENT
END:VCALENDAR