BEGIN:VCALENDAR
VERSION:2.0
CALSCALE:GREGORIAN
PRODID:-//MyApp//Calendar 1.0//EN
BEGIN:VEVENT
METHOD:PUBLISH
UID:47289@regionalniportaly.cz
DTSTAMP:20260425T170336Z
DTSTART;VALUE=DATE:20241220
DTEND;VALUE=DATE:20241221
SUMMARY:Vánoční koncert Cémtézékom
DESCRIPTION:Kapela Cémtézékom vznikla jako hudecká kapela v roce 1991. Za svého působení prošla několika personálními obměnami\, snad největší byla v roce 2000\, kdy se vytvořilo nové obsazení muziky a s ní i originální styl kapely. Repertoár tvoří rómské písně\, rumunská\, maďarská\, romská\, indická\, taneční\, operetní\, klasická a moravská lidová hudba podbarvená nádhernou harmonií dalekých krajů v netradičním spojení vycházejících ze starých romských tónin.&nbsp\;Vstupenka v předprodeji: 100 KčVstupenka na místě: 150 Kč
LOCATION:Tišnov
END:VEVENT
END:VCALENDAR