BEGIN:VCALENDAR
VERSION:2.0
CALSCALE:GREGORIAN
PRODID:-//MyApp//Calendar 1.0//EN
BEGIN:VEVENT
METHOD:PUBLISH
UID:47625@regionalniportaly.cz
DTSTAMP:20260425T154727Z
DTSTART;VALUE=DATE:20241106
DTEND;VALUE=DATE:20241107
SUMMARY:Písňový Recitál Má krásná Dulcineo: Baryton Roman Honza klavír Kristýna Znamenáčková
DESCRIPTION:velký sál MěKS250\,- Kč předprodej / 300\,- Kč na místěPro seniory platí cena z předprodeje také na místě v den koncertu. Děti do 12 let mají vstup zdarma.Roman Hoza – barytonKristýna Znamenáčková – klavír\npísňový recitál „Má krásná Dulcineo“\nDostat do vínku baryton jako nástroj sdělení je požehnáním. Roman Hoza svůj talent už řadu let rozvíjí nejen na domovské scéně Národního divadla v Brně\, ale také na operních jevištích po celé Evropě (namátkou Düsseldorf\, Lyon\, Göteborg). Za klavírního doprovodu Kristýny Znamenáčkové tentokrát přednese (nejen) písně francouzských skladatelů z přelomu 19. a 20. století s noblesou a lehkostí\, které francouzské hudbě přináležejí.\nPROGRAMClaude Debussy (1862–1918): Nuits d’étoilesJaques Ibert (1890–1962): Quatre Chansons de Don QuichotteMaurice Ravel (1875–1937): Náhrobek Couperinův\, výběrGabriel Fauré (1845–1924): Deux Chansons\, op.4Camille Saint-Saëns  (1835–1921): Danse MacabreReynaldo Hahn (1874–1947): L’heure exquise---přestávka---Ralph Vaughan Williams (1872–1958): Songs of Travel\, výběrMaurice Ravel: Pavana za Mrtvou InfantkuMaurice Ravel: Don Quichotte a Dulcinée\nNa úvod večera se představí žáci ZUŠ Tišnov.\nPosluchači v Tišnově si mohou kromě skvělé hudby vychutnat také sklenici kvalitního vína z nabídky Michala Kadlece ze společnosti MiKwine.\nVSTUPENKY zakoupíte v TIC Tišnov nebo online a také na místě před začátkem koncertu.Pro seniory platí cena z předprodeje také na místě v den koncertu.Děti do 12 let mají vstup zdarma.\nKoncert uvádíme jako součást cyklu Kruh přátel hudby\, v rámci kterého lze do konce roku navštívit ještě tradiční Štěpánský koncert v podání Tišnovského komorního orchestru (26. 12.).Program na rok 2025 intenzivně připravujeme a plánujeme ho zveřejnit právě na listopadovém koncertu Romana Hozy\, kde již budou mít zájemci možnost zakoupit si cenově zvýhodněné předplatné a rezervovat na každý koncert místo v předních řadách.
LOCATION:Tišnov
END:VEVENT
END:VCALENDAR