BEGIN:VCALENDAR
VERSION:2.0
CALSCALE:GREGORIAN
PRODID:-//MyApp//Calendar 1.0//EN
BEGIN:VEVENT
METHOD:PUBLISH
UID:47680@regionalniportaly.cz
DTSTAMP:20260425T152459Z
DTSTART;VALUE=DATE:20250307
DTEND;VALUE=DATE:20250308
SUMMARY:Circus Ponorka
DESCRIPTION:Skladatel průzračné filmové hudby\, uhrančivý showman\, který na pódiu vystaví orchestr jen pomocí looperů\, hlasu a kytary. Ale také pravá ruka velkých osobností jako Ivan Král\, Meky Žbirka či Václav Koubek. Všechny tváře Honzy Ponocného se spojily na jeho čtvrtém albu Lost Angeles\, které v březnu představí také v Tišnově.Jedinečný jednočlenný „orchestr“ Circus Ponorka (název odkazuje na kapelu Circus Praha\, se kterou Honza Ponocný a Bradley Stratton slavili úspěchy v devadesátkách) je originální nu-folková one man show. Na pódium přijde jediný člověk s akustickou kytarou a začnou se dít věci. Během chvilky se za pomoci elektronických „mašinek“ a dvou mikrofonů poskládá zvuk celé kapely\, ve které nechybí bicí\, basa\, několik kytarových partů\, a dokonce pěvecký sbor.Honza Ponocný je současně uznávaným skladatelem filmové a divadelní hudby. Dlouhodobě spolupracuje s režisérkou Alicí Nellis (za hudbu k filmům Mamas &amp\; Papas a Revival získal nominace na Českého lva) a také s Petrem Zelenkou (např. hudba ke kultovnímu seriálu Dabing Street nebo Modelář). Zkomponoval hudbu rovněž pro cyklus Nevinné lži nebo seriál Zločiny Zločiny Velké Prahy.Vstupné předprodej 200 Kč / na místě 250 Kč
LOCATION:Tišnov
END:VEVENT
END:VCALENDAR