BEGIN:VCALENDAR
VERSION:2.0
CALSCALE:GREGORIAN
PRODID:-//MyApp//Calendar 1.0//EN
BEGIN:VEVENT
METHOD:PUBLISH
UID:47851@regionalniportaly.cz
DTSTAMP:20260425T142254Z
DTSTART;VALUE=DATE:20250125
DTEND;VALUE=DATE:20250126
SUMMARY:Průvodce hojností 2
DESCRIPTION:Akce&nbsp\;Průvodce hojností\, která se koná&nbsp\;25.1.2025 je osobnostně vzdělávací akce&nbsp\;určena pro podnikatele\, manažery\, freelancery\, kreativce či&nbsp\;lidi\, kteří se potřebují nějak&nbsp\;posunout či odrazit na začátku roku a vykročit směrem k větší hojnosti\, jak v osobním\, tak pracovním životě.Akce je omezena kapacitou&nbsp\;50 lidí.Akcí vás provedou zkušení speakři z praxe.&nbsp\;Kateřina Zdráhalová&nbsp\;s tématem&nbsp\;Workshop pro zvýšení inteligence\, kreativity a soustředění(Kateřina je víceletou majitelkou firmy Berrys Juice\, která se zaměřuje na prodej čerstvých džusů a zdravých potravin\, kde svoje klienty i pravidelně vzdělává v oblasti zdravého životního stylu)&nbsp\;https://www.facebook.com/berrysjuiceandsmoothiesMonika Kadlecová s tématem&nbsp\;Staň se mistrem Linkedinu(Monika je člověk\, který má výborný přehled o fungování Linkedinu a zná hlavně nástroje a principy\, které Vám dokáže předat\, abyste jednou měli také 10 000 spojení jako ona. Spolupracovala již s několika nadnárodními společnostmi\, takže její zkušenosti jsou dlouholeté a praktické)https://www.linkedin.com/in/monikakadlecova/Michal Kuzněcov&nbsp\;s tématem&nbsp\;Cestováním k&nbsp\;investičnímu nadhledu.(Michal je zároveň pořadatelem akce a podnikatel s 17 letou praxí v oblastí financí a hlavně investic. Mezi jeho koníčky patří cestování a jeho deformace z práce ho provází i na jeho cestách\, což vyvrcholilo porovnáním příležitostí na realitním trhu v ČR\, Londýně\, Miami a Dubaji a nejen o tom bude jeho přednáška..)https://kuznecovinvest.cz/Denis Novotný s tématem Vnitřní kompas motivace.(Denis je kouč a tvůrce seberozvojové aplikace\, jejíž spůštění se očekává během příštího roku\, procestoval se ženou Evropu a pracoval online z různých míst\, kde pomáhal na dálku růst svým klientům\, &nbsp\;příští rok spouští retreat a náslédný výcvik praktické hojnosti nejen pro podnikatele)https://denisnovotny.cz/Tereza Kuzněcov&nbsp\;s tématem&nbsp\;Instagram - Buď vidět a slyšet!(Terka je živel sociálních síti a to hlavně instagramu\, dokáže zaujmout a zpromovat jakoukoliv službu či zančku\, která ji dává smysl a chytí ji za srdce. Algorytmus Intagrama zná tak dobře\, že je školí v placených konzultací a díky tomu Ti dokáže předat velice praktické dovednosti\, aby jsi na sítích nezapadl\, ale zářil)https://www.terezakuznecov.cz/Stanislav Ličko s&nbsp\;tématem Existuje mapa k bohatstvu?(Stano je sportovec\, otec\, investor\, ale také spisovatel. Na Slovensku již vydal tři knihy\, z nichž Ako ju pochopit se stal bestsellerem. Stano má již vybudovaný pasivní příjem a chce se s Vámi o tom pobavit a předat Vám znalosti\, které bránili jeho podvědomí\, aby tohoto stavu dosáhl.)https://stanislavlicko.sk/&nbsp\;
LOCATION:Rozdrojovice
END:VEVENT
END:VCALENDAR