BEGIN:VCALENDAR
VERSION:2.0
CALSCALE:GREGORIAN
PRODID:-//MyApp//Calendar 1.0//EN
BEGIN:VEVENT
METHOD:PUBLISH
UID:48287@regionalniportaly.cz
DTSTAMP:20260425T172457Z
DTSTART;VALUE=DATE:20250207
DTEND;VALUE=DATE:20250208
SUMMARY:Pivní speciál Lukáše Pavláska
DESCRIPTION:Celovečerní stand-up představení Lukáše Pavláska. Výběr jeho standupů\, tématicky laděných k posezení u piva. Vztahy\, práce\, svět kolem nás\, kamarádi\, prostě kecání o životě jako dělané do prostředí klubu nebo do hospody.Délka představení 90 minut bez přestávky.Po představení možné focení a autogramiáda.
LOCATION:Tišnov
END:VEVENT
END:VCALENDAR