BEGIN:VCALENDAR
VERSION:2.0
CALSCALE:GREGORIAN
PRODID:-//MyApp//Calendar 1.0//EN
BEGIN:VEVENT
METHOD:PUBLISH
UID:49146@regionalniportaly.cz
DTSTAMP:20260425T141021Z
DTSTART;VALUE=DATE:20241220
DTEND;VALUE=DATE:20241221
SUMMARY:Miroslav Donutil – Na kus řeči
DESCRIPTION:Pá 20.12.202419:00talk showKino Svratka500\,- Kč-novým program – nové historkyPro všechny\, kteří milují dobrý český humor\, jsme připravili opravdovou lahůdku. Populární český bavič a herec MIROSLAV DONUTIL přijede do útulného sálu tišnovského Kina Svratka představit jednu ze svých one man show\, které mají vždy velký úspěch. Tentokrát to bude nejoblíbenější pořad Na kus řeči a v rámci něj nové historky.\nMiroslav Donutil je jeden z nejznámějších a nejoblíbenějších českých herců\, komiků a vypravěčů. Za jeho talent jistě mohou i rodinné geny. Jeho rodiče byli ochotníky a dědeček byl vynikajícím a nadšeným vypravěčem. V divadle hrál již za studií\, konkrétně v divadle Husa na provázku. V roce 1990 se stal členem činohry souboru pražského Národního divadla.\nTalk show Na kus řeči je vyprávění zážitků a příběhů z jeho bohatého života a života jeho přátel. Program se skládá z nových humorných příběhů\, tak se máte na co těšit!\nVSTUPENKY v jednotné ceně 500\,- Kč zakoupíte v TIC Tišnov nebo online.Vstupné osvobozeno od daně dle § 61 zák. o DPH 235/204 Sb
LOCATION:Tišnov
END:VEVENT
END:VCALENDAR