BEGIN:VCALENDAR
VERSION:2.0
CALSCALE:GREGORIAN
PRODID:-//MyApp//Calendar 1.0//EN
BEGIN:VEVENT
METHOD:PUBLISH
UID:49147@regionalniportaly.cz
DTSTAMP:20260425T152449Z
DTSTART;VALUE=DATE:20241214
DTEND;VALUE=DATE:20241215
SUMMARY:Ha-kapela | vánoční koncert
DESCRIPTION:So 14.12.202418:00Sokolovna Tišnov300\,- Kč předprodej / 350\,- Kč na místě-Třináctihlavá hudební saň oděná do vánočních svetrů\, ověšená baňkami a rolničkami\, omotaná vánočními řetězy\, za třepetavého svitu prskavek… tak by se dala popsat oblíbená tišnovská Ha-kapela na tradičním vánočním hudebním večírku!\nChrlit bude výběr z jazzu\, swingu\, retro-popu\, soulu\, funku a r’n’b a samozřejmě i originální jazzové úpravy koled. Aby toho pod pomyslným stromečkem nebylo málo\, k Ha-kapele se přidá i Pěvecký sbor Gymnázia Tišnov\, protože sborové zpívání k Vánocům prostě patří.
LOCATION:Tišnov
END:VEVENT
END:VCALENDAR