BEGIN:VCALENDAR
VERSION:2.0
CALSCALE:GREGORIAN
PRODID:-//MyApp//Calendar 1.0//EN
BEGIN:VEVENT
METHOD:PUBLISH
UID:49452@regionalniportaly.cz
DTSTAMP:20260425T152529Z
DTSTART;VALUE=DATE:20250412
DTEND;VALUE=DATE:20250413
SUMMARY:ROHONY / LIVE night party
DESCRIPTION:Rohony patří momentálně mezi největší jména české rapové scény s hity jako Letná nebo U hřiště 380.V sobotu 12.4.2025 ho uvidíte live v Tišnově! Čeká vás nezapomenutelná show\, při které se tišnovský Krček Pub otřese v základech!Warm-up a after: DJ Sublo &amp\; DJ Andrew Melk.Start akce: 21:00 Krček Pub - bar + warm-up DJs\, 22:30 LIVE show ROHONY + after DJsVstupné:250 Kč (do 31.1.2025)350 Kč (do 12.4.2025 12:00)450 Kč (na místě)
LOCATION:Tišnov
END:VEVENT
END:VCALENDAR