BEGIN:VCALENDAR
VERSION:2.0
CALSCALE:GREGORIAN
PRODID:-//MyApp//Calendar 1.0//EN
BEGIN:VEVENT
METHOD:PUBLISH
UID:49829@regionalniportaly.cz
DTSTAMP:20260425T141050Z
DTSTART;VALUE=DATE:20250606
DTEND;VALUE=DATE:20250607
SUMMARY:7 pádů Honzy Dědka
DESCRIPTION:Talk show 7 pádů Honzy Dědka přijíždí do Lysic. V pátek 6. června 2025 od 19 hodin se v krásném areálu letního kina můžete těšit na oblíbeného moderátora a jeho hvězdné hosty. Herce Veroniku Žilkovou a Tomáše Matonohu. Přeprodej vstupenek v ceně 300 Kč probíhá v síti Ticketlive\, v Drogerii Fojt v Lysicích a v informačních kancelářích v Blansku\, v Boskovicích\, v Letovicích a v Kunštátě
LOCATION:Lysice
END:VEVENT
END:VCALENDAR