BEGIN:VCALENDAR
VERSION:2.0
CALSCALE:GREGORIAN
PRODID:-//MyApp//Calendar 1.0//EN
BEGIN:VEVENT
METHOD:PUBLISH
UID:50491@regionalniportaly.cz
DTSTAMP:20260425T141113Z
DTSTART;VALUE=DATE:20250205
DTEND;VALUE=DATE:20250206
SUMMARY:Pavol Seriš: Pozemšťan
DESCRIPTION:St 05.02.202519:00divadelní představeníKino Svratka250\,- Kč předprodej / 300\,- Kč na místě-Komediální představení\, které vzniklo ve spolupráci s Bolkem Polívkou v jeho divadle\, zábavný mix stand-upu\, fyzického divadla a pantomimy.\nBláznivý příběh mimozemšťana\, který touží stát se pozemšťanem. Pohybuje se po planetě Zemi a bedlivě nás pozoruje\, aby se naučil být jako my. Nemá to ale jednoduché. Jsme totiž podivnější\, než si myslel. Podaří se mu pochopit naše chování a zapadnout do společnosti v 21. století?\nDramaturgie: Matěj RandárSupervize: Bolek PolívkaRežie: Hana MikoláškováAutor a hraje: Pavol Seriš\nDélka cca 75 minut. Bez přestávky.\nPavol Seriš je absolventem Ateliéru fyzického divadla na Janáčkově akademii múzických umění v Brně\, kde v roce 2017 dokončil i doktorské studium. Ve své tvorbě sa věnuje převážně autorskému divadlu jednoho herce\; momentálně má v repertoáru sedum monodramat: Chutilo vám\, páni?\, Zo ZOO\, Autor\, Pri kase\, Samko Tále\, Pozemšťan a DADA Revue. Za své autorské inscenace získal mnoho ocenění: Cenu za nejlepší herecký výkon na festivalu FITUA 2015 v marockém Agadire\, Hlavní Cenu na European Young Theatre 2015 v italské Spoletě nebo Hlavní Cenu publika na festivalu Monomaffia 2016 v estonském Pärnu.  \nwww.pavolseris.comwww.instagram.com/palo_seriswww.facebook.com/pavolserisofficial
LOCATION:Tišnov
END:VEVENT
END:VCALENDAR