BEGIN:VCALENDAR
VERSION:2.0
CALSCALE:GREGORIAN
PRODID:-//MyApp//Calendar 1.0//EN
BEGIN:VEVENT
METHOD:PUBLISH
UID:50494@regionalniportaly.cz
DTSTAMP:20260425T154637Z
DTSTART;VALUE=DATE:20250205
DTEND;VALUE=DATE:20250206
SUMMARY:Jak podpořit děti ve čtení?
DESCRIPTION:Jak podpořit děti ve čtení?5. 2. 2025\n• 9.00 hodin\n• Knižní klubík (nejen) pro rodiče s dětmi\n• vstup zdarmaCo všechno můžete udělat už teď pro to\, aby se jednou z vašich dětí stali čtenáři? Zájmové vzdělávání pro rodiče s dětmi do 12 měsíců\, ale i pro všechny ostatní\, kteří se zajímají o dětskou literaturu a chtějí (nejen) pro své děti to nejlepší. Máte-li doma miminko nebo i starší děti\, vezměte je s sebou. Upozorňujeme\, že kapacita je omezena. Prosíme vás tedy\, abyste se přihlásili. (Pokud není možné vybrat datum ani čas klubíku\, znamená to\, že kapacita je bohužel naplněna a nelze se přihlásit ani jako náhradník.)
LOCATION:Tišnov
END:VEVENT
END:VCALENDAR