BEGIN:VCALENDAR
VERSION:2.0
CALSCALE:GREGORIAN
PRODID:-//MyApp//Calendar 1.0//EN
BEGIN:VEVENT
METHOD:PUBLISH
UID:50704@regionalniportaly.cz
DTSTAMP:20260425T142410Z
DTSTART;VALUE=DATE:20250222
DTEND;VALUE=DATE:20250223
SUMMARY:Kurz šití pro začátečníky – půlkolová sukně
DESCRIPTION:Sobota 22. 2. 2025 13:00Každá malá i velká holka potřebuje v šatníku točící sukni. A když je ta sukně ještě dobrou příležitostí k tomu\, naučit se šít\, stává se přímo nezbytností. Přijďte se seznámit se základy šití a ušít si vlastní půlkolovou sukni.\nLektor: Mgr. Martina Šaclová\nKdy: v sobotu 22.2.2025 v čase 13:00 – 17:00\nKde: v tělocvičně RC Studánka\, Riegrova 318\, Tišnov\nCena: zahrnuje kurzovné a materiál\, proto je odstupňovaná podle spotřeby\n400 Kč – pokud budete šít dětskou sukni ve velikosti do 134/140600 Kč – pokud budete šít dámskou sukni v délce ke kolenům700 Kč – za dlouho dámskou sukniKurz je vhodný pro ženy a dívky od 7 let\, které se šitím nemají žádné nebo jen základní zkušenosti.\nPOZOR – na kurz potřebujete vlastní šicí stroj !\nŠít budeme sukni z bavlněného plátna s pružným nápletem v pase a dolním ozdobným lemem. Za pomoci lektorky si projdete celým procesem od přípravy střihu\, stříhání materiálu až po vlastní šití. Seznámíte se s úplnými základy šití.\nPřihlášení: Na kurz je nutné se nahlásit předem přes rezervační systém v sekci Kurz šití. Při rezervaci si zvolíte\, jak velkou sukni chcete šít – dívčí půlkolovou sukni ke kolenům\, dámskou půlkolovou sukni ke kolenům nebo dlouhou dámskou půlkolovou sukni a s touto volbou si zarezervujete své místo v kalendáři na políčku 22.2.2025. Tato možnost bude v systému viditelná až měsíc před začátkem akce\, tedy až od 22.1.2025. Po vytvoření rezervace vám lektorka na email zašle nabídku materiálu\, ze které si vyberete ten svůj. Na kurzu tak na vás bude čekat balíček materiálu dle vašeho výběru. Při rezervaci si prosím vyberte pouze jednu možnost. Na kurzu určitě nebude prostor stihnout víc než jeden výrobek. Na případném dalším materiálu „na doma“ se můžeme domluvit následně emailem.\nDalší informace emailem studanka.tisnov@gmail.com nebo na telefonu 777 706 724.
LOCATION:Tišnov
END:VEVENT
END:VCALENDAR