BEGIN:VCALENDAR
VERSION:2.0
CALSCALE:GREGORIAN
PRODID:-//MyApp//Calendar 1.0//EN
BEGIN:VEVENT
METHOD:PUBLISH
UID:50771@regionalniportaly.cz
DTSTAMP:20260425T141103Z
DTSTART;VALUE=DATE:20250222
DTEND;VALUE=DATE:20250223
SUMMARY:Fotbalový ples SKMK
DESCRIPTION:Srdečně zveme na fotbalový ples SKMK\, který se uskuteční v sobotu 22. února v knínické Sokolovně. \nK tanci a poslechu zahraje Miloš Alexander.\nhttps://www.milosalexandr.cz/\n \nProdej na tel. čísle: 774405588 
LOCATION:Moravské Knínice
END:VEVENT
END:VCALENDAR