BEGIN:VCALENDAR
VERSION:2.0
CALSCALE:GREGORIAN
PRODID:-//MyApp//Calendar 1.0//EN
BEGIN:VEVENT
METHOD:PUBLISH
UID:52885@regionalniportaly.cz
DTSTAMP:20260425T154503Z
DTSTART;VALUE=DATE:20250406
DTEND;VALUE=DATE:20250407
SUMMARY:Setkání světů - autorské čtení a vyprávění
DESCRIPTION:Autorské čtení Dalibora Stacha – Cesta za příběhy plnými tajemství a humoruPokud máte rádi dobrodružství\, mystiku a příběhy\, které vás vtáhnou do svých světů\, pak byste si neměli nechat ujít autorské čtení a vyprávění Dalibora Stacha. Tento všestranný spisovatel a režisér představí svá díla – Mystik z Velryby\, Za oponou noci\, Brána\, Oáza v poušti\, Krušnohorské proroctví a Mrtví muži nemluví – a poodhalí\, jak tyto knihy vznikaly.Co čekat?- Poutavé čtení – ukázky z jeho románů\, které kombinují napětí\, mystiku a filozofické přesahy.- Zákulisí tvorby – jak se rodily příběhy\, co inspirovalo jejich zápletky a postavy.- Vtipné historky – Dalibor Stach je známý svým smyslem pro humor\, takže se můžete těšit na veselé i absurdní zážitky z psaní a natáčení.Pro koho je akce určena?Pro všechny\, kdo milují knihy\, zajímá je tvůrčí proces a chtějí zažít příjemný večer plný vyprávění. Ať už jste fanoušky Stachových děl\, nebo je teprve objevujete\, tento pořad vás určitě osloví.
LOCATION:Nedvědice
END:VEVENT
END:VCALENDAR