BEGIN:VCALENDAR
VERSION:2.0
CALSCALE:GREGORIAN
PRODID:-//MyApp//Calendar 1.0//EN
BEGIN:VEVENT
METHOD:PUBLISH
UID:53231@regionalniportaly.cz
DTSTAMP:20260425T152439Z
DTSTART;VALUE=DATE:20250424
DTEND;VALUE=DATE:20250425
SUMMARY:Rozhlas jede za vámi
DESCRIPTION:Čt 24.04.2025 19:00 talk show Kino Svratka 250\,- Kč předprodej / 300\,- Kč na místě - Hosty zábavné show Českého rozhlasu s populárním moderátorem Alešem Cibulkou v tišnovském kině budou:Olga Lounová – zpěvačka\, automobilová závodnice a herečkaPavel Horváth – trenér\, fotbalista a expert Radiožurnálu SportRené Zavoral – generální ředitel Českého rozhlasu\nSoutěž o DAB rádia a dárkové předměty pro diváky v průběhu pořadu moderuje Michal Jagelka.\nKromě příjemného povídání se můžete těšit také na hudební produkci Olgy Lounové a autogramiádu našich vzácných hostů.\nVSTUPENKY zakoupíte v TIC Tišnov nebo online na https://shop.entradio.cz/event/24920 a také na místě před začátkem pořadu\, pokud nebude vyprodáno.Sleva pro držitele průkazu ZTP 50 %.Vstupné osvobozeno od daně dle § 61 zák. o DPH 235/204 Sb
LOCATION:Tišnov
END:VEVENT
END:VCALENDAR