BEGIN:VCALENDAR
VERSION:2.0
CALSCALE:GREGORIAN
PRODID:-//MyApp//Calendar 1.0//EN
BEGIN:VEVENT
METHOD:PUBLISH
UID:53332@regionalniportaly.cz
DTSTAMP:20260425T142039Z
DTSTART;VALUE=DATE:20250522
DTEND;VALUE=DATE:20250523
SUMMARY:Seminář: Jak na zdravou krajinu v rámci akce Klima Vohančice
DESCRIPTION:Jak připravit krajinná opatření v obci\, jak správně hospodařit na obecních pozemcích\, jak o těchto tématech komunikovat se zemědělci a kde hledat možnosti financování těchto projektů? Na tyto otázky vám odpoví vzdělávací seminář Jak na zdravou krajinu v rámci akce Klima Vohančice.\n \nTermín: 22.05.2025Registrace do: 20.05.2025 (zde)Místo konání: Komunitní centrum Vohančice\, č. p. 100\, 666 01 TišnovČas konání: 9:00 - 16:30\, příjezd od 8:30
LOCATION:Tišnov
END:VEVENT
END:VCALENDAR