BEGIN:VCALENDAR
VERSION:2.0
CALSCALE:GREGORIAN
PRODID:-//MyApp//Calendar 1.0//EN
BEGIN:VEVENT
METHOD:PUBLISH
UID:53513@regionalniportaly.cz
DTSTAMP:20260425T152519Z
DTSTART;VALUE=DATE:20250517
DTEND;VALUE=DATE:20250518
SUMMARY:Setkání na pohodu 10
DESCRIPTION:🔥 HLAVNÍ PROGRAM | 12:00 - 18:00 🔥 &nbsp\;Přijďte na jedinečnou událost plnou inspirace\, poznání a energie! Čeká na vás: &nbsp\;✨ Jitka Třešňáková – Transformační koučka s programy Inspirála &amp\; Metamorfní technika✨ Antonín Baudyš&nbsp\;&nbsp\;– Zkušený astrolog\, který odhalí vaše skryté možnosti &nbsp\;✨ Dalibor Stach&nbsp\;– Renomovaný spisovatel a režisér&nbsp\;s poutavými příběhy &nbsp\;✨ Emanuel Holub – Dynamický motivátor\, který vás posune dál &nbsp\;✨ Ladislav Šiška&nbsp\;– Magický hudební doprovod na Handpan&nbsp\;&nbsp\;🔹 Objevte Rozvojové programy: Inspirála\, Potenciála a Baťovské principy&nbsp\;&nbsp\;Nenechte si ujít příležitost pro osobní růst\, motivaci a nové impulzy!V 18:00 projekce celovečerního filmu DIMENZE s pčednáškou Skrytá tajemství Za oponou noci.
LOCATION:Nedvědice
END:VEVENT
END:VCALENDAR