BEGIN:VCALENDAR
VERSION:2.0
CALSCALE:GREGORIAN
PRODID:-//MyApp//Calendar 1.0//EN
BEGIN:VEVENT
METHOD:PUBLISH
UID:53768@regionalniportaly.cz
DTSTAMP:20260425T140952Z
DTSTART;VALUE=DATE:20250607
DTEND;VALUE=DATE:20250608
SUMMARY:Festiválek U Palce
DESCRIPTION:Spolek Pro Tišnov a Tišnovsko kulturní\, z. s. navazují na tradici hudebních festiválků v překrásných prostorách Zahrádky U Palce&nbsp\;ve vnitrobloku barokního domu Na Pernštýně v Tišnově.Zahrají kapely Helmutova stříkačka\, Znouzectnost\, Panthenol a Bod Varu.V případě nepříznivého počasí se akce přesouvá do hudebního klubu Krček Pub\, Drbalova 274\, Tišnov.
LOCATION:Tišnov
END:VEVENT
END:VCALENDAR