BEGIN:VCALENDAR
VERSION:2.0
CALSCALE:GREGORIAN
PRODID:-//MyApp//Calendar 1.0//EN
BEGIN:VEVENT
METHOD:PUBLISH
UID:53891@regionalniportaly.cz
DTSTAMP:20260425T170403Z
DTSTART;VALUE=DATE:20250530
DTEND;VALUE=DATE:20250531
SUMMARY:Elka
DESCRIPTION:Elka (zpěv)\, Christoffer Strandh (kytara\, klávesy)\, Adam Havelka (basová kytara) a Prune (vokály).Mladá post-folková zpěvačka Elka (Lenka Konkoľová) vydala své první album s názvem Jedeme domů. Mísí se na něm její pocity\, zážitky a postoje k různým tématům\, která jí provázejí životem. Písně v sobě mají hloubku\, někdy trochu smutku a všechny spojuje veskrze pozitivní závěr\, ačkoliv se k němu je třeba trochu dopracovat. Citlivou a něžnou hudbu doplňuje Lenčin smysl pro humor.V pátek 30. května představí Elka nové album také svému domácímu publiku.
LOCATION:Tišnov
END:VEVENT
END:VCALENDAR