BEGIN:VCALENDAR
VERSION:2.0
CALSCALE:GREGORIAN
PRODID:-//MyApp//Calendar 1.0//EN
BEGIN:VEVENT
METHOD:PUBLISH
UID:54048@regionalniportaly.cz
DTSTAMP:20260425T140918Z
DTSTART;VALUE=DATE:20250520
DTEND;VALUE=DATE:20250521
SUMMARY:Zdeněk Izer – Vyndavací zas tam dací
DESCRIPTION:Út 20.05.2025 17:30 talk show Kino Svratka 390\,- Kč - přidaná podvečerní show v 17.30 hodin\nOriginální divadelně–kabaretní představení\, ve kterém si diváci naplno užijí nezaměnitelný humor Zdeňka Izera.Jako obvykle přijdou na řadu oblíbené zábavné scénky\, imitování známých osobností a mnoho skvělých vtipů.Vystoupení je obohaceno videoprojekcemi a nejrůznějšími kostýmy a převleky.\nVSTUPENKY v jednotné ceně 390\,- Kč zakoupíte v TIC Tišnov nebo online na https://shop.entradio.cz/event/27579 a na místě před začátkem akce\, pokud nebude vyprodáno.Vstupné osvobozeno od daně dle § 61 zák. o DPH 235/204 Sb.Sleva pro držitele průkazu ZTP/P je 50 % a kapacita těchto zlevněných vstupenek je omezena na 5 kusů.\nDélka pořadu cca 90 minut\, bez přestávky.
LOCATION:Tišnov
END:VEVENT
END:VCALENDAR