BEGIN:VCALENDAR
VERSION:2.0
CALSCALE:GREGORIAN
PRODID:-//MyApp//Calendar 1.0//EN
BEGIN:VEVENT
METHOD:PUBLISH
UID:54503@regionalniportaly.cz
DTSTAMP:20260425T141040Z
DTSTART;VALUE=DATE:20250628
DTEND;VALUE=DATE:20250629
SUMMARY:U Vlachů to swinguje!
DESCRIPTION:Po roce se opět potkáme v zahradním posezení Hostince U Vlachů v Jamném na okouzlujícím večeru plném skvělé hudby\, tance a pohody!Hudbou se vrátíme do do časů našich babiček a dědečků\, kdy elegance hrála prim a čas běžel tak nějak pomaleji. Hrát budou skvělí MELODY GENTLEMEN z Lednice\, kteří skvostně zahranými swingovými šlágry z dob první repubiky nenechají nikoho posedávat u stolu!Přijďte si zatančit\, poslechnout živou hudbu a vychutnat noblesu dob dávno minulých\, která však nikdy neztratila své kouzlo. Je pro vás připraven večer\, na který se nezapomíná!Vstupenky v předprodeji na tomto odkazu\, nebo osobně v otevírací době Hostince U Vlachů.
LOCATION:Tišnov
END:VEVENT
END:VCALENDAR