BEGIN:VCALENDAR
VERSION:2.0
CALSCALE:GREGORIAN
PRODID:-//MyApp//Calendar 1.0//EN
BEGIN:VEVENT
METHOD:PUBLISH
UID:54512@regionalniportaly.cz
DTSTAMP:20260425T142115Z
DTSTART;VALUE=DATE:20250711
DTEND;VALUE=DATE:20250712
SUMMARY:Zahradní ochutnávka vín VÍNO & LÁSKA
DESCRIPTION:V pátek 11.7. se na Vás opět těšíme na už VI. ročníku zahradní ochutnávky vín s hudbou VÍNO &amp\; LÁSKA!Stejně jako v předchozích letech\, i letos pro vás bude v zahradním posezení Hostince U Vlachů v Jamném u Tišnova nachystána široká nabídka vín ze společnosti MIKWINE s.r.o.U vstupu dostanete skleničku a degustační list\, se kterým budete moci neomezeně ochutnávat všechna prezentovaná vína. Pokud budete potřebovat poradit\, bude k dispozici i sommelier. Jinak bude ochutnávka zcela na vás.A z jakých vinařství vína budou?- Weingut Tagwerker z Herrnbaumgartenu\,- Gut Kellerstöckl z Ketzelsdorfu\,- Weingut Hirtl z Poysdorfu\,- Kamil Prokeš vinařství z Velkých Pavlovic\,- Vinařství Vašíček z Prušánek\,- Vinné sklepy Skalák ze Skalky u Kyjova\,- Vinařství Vilavin z Dobrého Pole u Mikulova.- a možná ještě další přibudou!Celkem bude k dispozici mezi 30-40 vín!Vína\, která vám chutnala\, si navíc budete moci zakoupit za zvýhodněnou cenu! A pokud na místě učiníte objednávku v hodnotě 2.500\,-Kč bez DPH\, vstupné vám bude z objednávky odečteno!Jako bonus k tomu bude již tradiční "Láskyplný" koncert!&nbsp\;Vinný večer zpříjemní koncert Václava Vaňury alias LÁSKY! Osobitý folkpopový písničkář\, kytarista\, zpěvák\, skladatel. Hudebník\, který sice vystupuje sám\, ale se svou akustickou kytarou a looperem vydá za celou kapelu. Na kontě má již řadu vlastních klipů i featuringů\, účinkování v televizních a rozhlasových pořadech\, společná turné a vystoupení s Pokáčem\, Xindlem X\, Pekařem\, Jakubem Děkanem\, Voxelem\, kapelami O5&amp\;Radeček\, Poletíme?\, Jamaron a dalšími. Profil na www.youtube.com/@LASKAtube\, nebo www.laskaweb.cz .Volná ochutnávka vín bude otevřena v 17.00hod.\, koncert Lásky od 20.00hod.Předprodej vstupenek na: xxxxx a čím dříve\, tím výhodněji! Do konce května za 325\,-\, do konce června 375\,- a v červenci za 425\,-!&nbsp\;Vstupenek je pouze omezený počet\, aby si mohli všichni návštěvníci pohodlně sednout ke stolům. I proto doporučujeme s koupí neváhat!Ve víně je láska? Na víno s láskou? Víno s láskou? Jak budete chtít! Těšíme se na vás!
LOCATION:Tišnov
END:VEVENT
END:VCALENDAR