BEGIN:VCALENDAR
VERSION:2.0
CALSCALE:GREGORIAN
PRODID:-//MyApp//Calendar 1.0//EN
BEGIN:VEVENT
METHOD:PUBLISH
UID:56267@regionalniportaly.cz
DTSTAMP:20260425T152627Z
DTSTART;VALUE=DATE:20250731
DTEND;VALUE=DATE:20250801
SUMMARY:Bratři Ebenové
DESCRIPTION:Čt 31.07.2025 Kdy: 19:30Kde: Letní Kino650\,- Kč předprodej / 750\,- Kč na místě - Kapela tří bratrů Ebenových (Marek\, Kryštof\, David) a dalších předních českých hudebníků představí na koncertě v krásném areálu  letního kina v Tišnově průřez svou tvorbou od prvního alba Malé písně do tmy (1984) až po poslední Co my víme (2023).\nMarek Eben – zpěv\, kytara\, klávesyKryštof Eben – zpěv\, flétny\, klávesyDavid Eben – sax\, klarinet\, zpěvPavel Skála – kytaryJiří Zelenka – bicíJaromír Honzák – kontrabas\nUspořádání hlediště na sezení – místa nejsou číslována. Délka vystoupení cca 120 minut s pauzou 20 minut.\nVSTUPENKY zakoupíte v TIC Tišnov nebo online na https://shop.entradio.cz/event/27082 a na místě před začátkem koncertu\, pokud nebude vyprodáno. Vstupné osvobozeno od daně dle § 61 zák. o DPH 235/204 Sb. Sleva pro držitele průkazu ZTP 50 %.\nV době vydání prvního alba působila kapela jako bratrské trio - Marek\, Kryštof a David a byli na české hudební scéně svým přístupem zcela ojedinělí. Synové významného hudebního skladatele Petra Ebena (1929 – 2007) dostali klasické hudební vzdělání\, zároveň však vstřebávali vlivy moderní folkové\, jazzové a rockové muziky. Svou schopností čerpat ze všech těchto zdrojů a umění používat různé neobvyklé hudební nástroje\, vznikl absolutně netradiční\, na české scéně nenapodobitelný „ebenovský zvuk“. Navíc ve spojení s výjimečnými texty Marka byli a doposud jsou Bratři Ebenové na české hudební scéně jedineční.\nV září 2023 vydala kapela již 6. řadové album s názvem „Co my víme“. Album obsahuje 13 nových skladeb (LP pak o jednu méně). Autorem všech (hudby i textu) je Marek Eben. Výjimku tvoří instrumentální skladba Clafoutis\, jejímž autorem je nejmladší z bratrů David. Album bylo natočeno ve studiu Birdland studios (Povážská Bystrica) kmenovým zvukařem kapely Tomášem Jaklem a za dozoru producenta a kytaristy kapely Pavla Skály. Kromě Marka\, Kryštofa a Davida Ebenových kapelu tvoří Pavel Skála (kytary)\, Jiří Zelenka (bicí a perkuse) a Jaromír Honzák (kontrabas a basová kytara). Na albu se objeví také několik hostů – Pavel Fischer na housle nebo dětský pěvecký sbor Radost Praha se sbormistrem Janem Pirnerem. Mixu alba se ujal legendární britský zvukař Phill Brown. Ten je v hudební branži velmi známou osobností - z výčtu ikon hudebního průmyslu\, pro které pracoval jmenujme Led Zeppelin\, David Bowie\, Cat Stevens\, Bob Marley\, Jimi Hendrix\, Pink Floyd nebo Dido a celá řada dalších. Mastering byl svěřen neméně slavnému britskému inženýrovi Denisovi Blackhamovi. Grafiky se ujal dlouholetý spolupracovník kapely\, Karel Haloun s Luďkem Kubíkem. Fotografie k albu pořídil Dušan Tománek.\nhttp://www.bratriebenove.cz | https://www.facebook.com/bratriebenove | https://www.youtube.com/user/BratriEbenoveVEVO | https://www.instagram.com/bratriebenove
LOCATION:Tišnov
END:VEVENT
END:VCALENDAR