BEGIN:VCALENDAR
VERSION:2.0
CALSCALE:GREGORIAN
PRODID:-//MyApp//Calendar 1.0//EN
BEGIN:VEVENT
METHOD:PUBLISH
UID:56931@regionalniportaly.cz
DTSTAMP:20260425T141030Z
DTSTART;VALUE=DATE:20251014
DTEND;VALUE=DATE:20251015
SUMMARY:Talk show Deník farářky Martiny Viktorie Kopecké
DESCRIPTION:Talk show Martiny Viktorie Kopecké\, farářky\, psychoterapeutky a známé finalistky Stardance se uskuteční v úterý 14. 10. od 18 hodin v sále Hotelu Lysice.\nPřijďte si poslechnout otevřené vyprávění o životě moderní farářky\, které vás pobaví\, dojme a překvapí. Zjistíte\, jaké to je sloužit bohoslužby a tančit v přímém přenosu\, co obnáší setkání s papežem a další zajímavosti.\nVstupenky v ceně 200 Kč jsou v předprodeji v síti Ticketlive (www.ticketlive.cz)\, v Drogerii Fojt Lysice a v informačních kancelářích v Blansku a v Boskovicích.
LOCATION:Lysice
END:VEVENT
END:VCALENDAR