BEGIN:VCALENDAR
VERSION:2.0
CALSCALE:GREGORIAN
PRODID:-//MyApp//Calendar 1.0//EN
BEGIN:VEVENT
METHOD:PUBLISH
UID:57452@regionalniportaly.cz
DTSTAMP:20260425T152545Z
DTSTART;VALUE=DATE:20250910
DTEND;VALUE=DATE:20250911
SUMMARY:Sirény na cestách
DESCRIPTION:19:00 Kino Svratka sektor A – 450 Kč / sektor B – 450 Kč / sektor C – 350 Kč - Zábavná talk show ženské trojice hereček a zpěvaček Sandry POGODOVÉ\, Jitky ASTEROVÉ a Lindy FINKOVÉ.\nJejich neotřelý smysl pro humor a vzájemná chuť si ze sebe utahovat vás rozhodně pobaví.Pořad je plný šťavnatých vyprávění a historek ze zákulisí natáčení a divadelního světa. To vše prošpikováno šansony a písněmi z muzikálů tvoří dokonalý program\, na který budete dlouho vzpomínat s úsměvem na tváři.\nPo skončení pořadu následuje autogramiáda.\nDélka vystoupení 90 minut bez pauzy.
LOCATION:Tišnov
END:VEVENT
END:VCALENDAR